BEGIN:VCALENDAR
VERSION:2.0
PRODID:-//ChamberMaster//Event Calendar 2.0//EN
METHOD:PUBLISH
X-PUBLISHED-TTL:P1H
REFRESH-INTERVAL:P1H
CALSCALE:GREGORIAN
BEGIN:VTIMEZONE
TZID:America/New_York
BEGIN:DAYLIGHT
RRULE:FREQ=YEARLY;BYMONTH=3;BYDAY=2SU
DTSTART:20070101T000000
TZOFFSETFROM:-0500
TZOFFSETTO:-0400
TZNAME:Eastern Daylight Time
END:DAYLIGHT
BEGIN:STANDARD
RRULE:FREQ=YEARLY;BYMONTH=11;BYDAY=1SU
DTSTART:20070101T000000
TZOFFSETFROM:-0400
TZOFFSETTO:-0500
TZNAME:Eastern Standard Time
END:STANDARD
END:VTIMEZONE
BEGIN:VEVENT
DTSTART;TZID=America/New_York:20261116T113000
DTEND;TZID=America/New_York:20261116T133000
X-MICROSOFT-CDO-ALLDAYEVENT:FALSE
SUMMARY:Broker's Council Luncheon
DESCRIPTION:Registration Coming Soon & Guest Speaker TBALicensed Broker/Owners and Broker Associates are invited to attend the Association's quarterly Broker Lunch Meeting. These meetings provide an opportunity for brokers to connect\, share insights\, and discuss topics impacting their offices\, agents\, and the local real estate industry.Each session includes updates on industry trends\, regulatory changes\, MLS and Association initiatives\, and operational best practices. Open discussion is encouraged\, allowing participants to ask questions\, exchange ideas\, and suggest topics for future meetings.This collaborative forum is designed to support broker leadership\, strengthen professional engagement\, and foster meaningful dialogue that benefits the brokerage community and the members they serve.
X-ALT-DESC;FMTTYPE=text/html:<!DOCTYPE html><html><head><title></title></head><body aria-disabled="false"><p data-end="451" data-start="169"><strong fr-original-style="" style="font-weight: 700\;"><span style="font-size: 24px\; color: rgb(41\, 105\, 176)\;">Registration Coming Soon &amp\; Guest Speaker TBA</span></strong></p><p data-end="451" data-start="169">Licensed Broker/Owners and Broker Associates are invited to attend the Association&rsquo\;s quarterly Broker Lunch Meeting. These meetings provide an opportunity for brokers to connect\, share insights\, and discuss topics impacting their offices\, agents\, and the local real estate industry.</p><p data-end="714" data-start="453">Each session includes updates on industry trends\, regulatory changes\, MLS and Association initiatives\, and operational best practices. Open discussion is encouraged\, allowing participants to ask questions\, exchange ideas\, and suggest topics for future meetings.</p><p data-end="915" data-start="716">This collaborative forum is designed to support broker leadership\, strengthen professional engagement\, and foster meaningful dialogue that benefits the brokerage community and the members they serve.</p></body></html>
LOCATION:619 E. Orange Street Lakeland FL 33801
UID:e.2601.1407895
SEQUENCE:3
DTSTAMP:20260421T082706Z
URL:https://lakelandassociationofrealtors.growthzoneapp.com/calendar/Details/broker-s-council-luncheon-1663919?sourceTypeId=Hub
END:VEVENT
END:VCALENDAR
