BEGIN:VCALENDAR
VERSION:2.0
PRODID:-//ChamberMaster//Event Calendar 2.0//EN
METHOD:PUBLISH
X-PUBLISHED-TTL:P1H
REFRESH-INTERVAL:P1H
CALSCALE:GREGORIAN
BEGIN:VTIMEZONE
TZID:America/New_York
BEGIN:DAYLIGHT
RRULE:FREQ=YEARLY;BYMONTH=3;BYDAY=2SU
DTSTART:20070101T000000
TZOFFSETFROM:-0500
TZOFFSETTO:-0400
TZNAME:Eastern Daylight Time
END:DAYLIGHT
BEGIN:STANDARD
RRULE:FREQ=YEARLY;BYMONTH=11;BYDAY=1SU
DTSTART:20070101T000000
TZOFFSETFROM:-0400
TZOFFSETTO:-0500
TZNAME:Eastern Standard Time
END:STANDARD
END:VTIMEZONE
BEGIN:VEVENT
DTSTART;TZID=America/New_York:20260505T150000
DTEND;TZID=America/New_York:20260505T170000
X-MICROSOFT-CDO-ALLDAYEVENT:FALSE
SUMMARY:Cinco De Mayo After Hours Networking Fiesta
DESCRIPTION:🍋 🟩REALTORS  Members are Invited to the🌮\n🌵3rd Annual CINCO de MAYO REALTOR  After Hours Fiesta🍋 🟩 \n🌮Hosted by the Preferred Business Partners Committee🌵Join us at Lakeland REALTORS for a festive networking event in celebration of Cinco De Mayo! 🌮 **Tacos Galore:** Enjoy a delicious taco bar with all the fixin's🍹 **Margaritas & Coronas:** Sip on refreshing margaritas and ice-cold Coronas🎶 **Music:** Get into the groove with vibrant music setting the tone for the evening🎲 **Games & Giveaways:** Win exciting prizes and enjoy fun-filled games🗓️ **Date & Time:** May 5\, 2026\, from 3:00 PM to 5:00 PM.This is your chance to network with our esteemed Preferred Business Partners\, industry experts\, and fellow Realtors  in a festive and casual atmosphere.Don't miss out on this opportunity to connect and celebrate Cinco De Mayo with us!‼️Preferred Business Partners\, click on Exhibitor Registration\nto register as a sponsor/exhibitor for this event‼️
X-ALT-DESC;FMTTYPE=text/html:<!DOCTYPE html><html><head><title></title></head><body aria-disabled="false"><p style="text-align: center\;"><span style="font-size: 18px\;">🍋&zwj\;🟩<strong fr-original-style="" style="font-weight: 700\;">REALTORS&reg\; Members are Invited&nbsp\;</strong>to the<strong fr-original-style="" style="font-weight: 700\;"><span style="color: rgb(0\, 0\, 0)\; font-family: Arial\; font-style: normal\; font-variant-ligatures: normal\; font-variant-caps: normal\; font-weight: 400\; letter-spacing: normal\; orphans: 2\; text-align: center\; text-indent: 0px\; text-transform: none\; widows: 2\; word-spacing: 0px\; -webkit-text-stroke-width: 0px\; white-space: normal\; text-decoration-thickness: initial\; text-decoration-style: initial\; text-decoration-color: initial\; float: none\; display: inline !important\;">🌮</span></strong><br></span><span style="font-size: 24px\;">🌵<strong fr-original-style="" style="font-weight: 700\;">3rd Annual&nbsp\;</strong><strong fr-original-style="" style="font-weight: 700\;"><span style="color: rgb(184\, 49\, 47)\;">C</span><span style="color: rgb(250\, 197\, 28)\;">I</span><span style="color: rgb(65\, 168\, 95)\;">N</span><span style="color: rgb(184\, 49\, 47)\;">C</span><span style="color: rgb(250\, 197\, 28)\;">O</span> <span style="color: rgb(65\, 168\, 95)\;">de</span> <span style="color: rgb(184\, 49\, 47)\;">M</span><span style="color: rgb(250\, 197\, 28)\;">A</span><span style="color: rgb(65\, 168\, 95)\;">Y</span><span style="color: rgb(184\, 49\, 47)\;">O</span> REALTOR&reg\; After Hours Fiesta🍋&zwj\;🟩&nbsp\;</strong></span><span style="font-size: 18px\;"><br></span><strong fr-original-style="" style="font-weight: 700\;"><span style="font-size: 18px\;"><strong fr-original-style="" style="font-weight: 700\;">🌮</strong>Hosted by the Preferred Business Partners Committee🌵</span></strong></p><p>Join us at Lakeland REALTORS for a festive networking event in celebration of Cinco De Mayo!&nbsp\;</p><p>🌮 <strong fr-original-style="" style="font-weight: 700\;">**Tacos Galore:**</strong> Enjoy a delicious taco bar with all the fixin&#39\;s</p><p>🍹 <strong fr-original-style="" style="font-weight: 700\;">**Margaritas &amp\; Coronas:**</strong> Sip on refreshing margaritas and ice-cold Coronas</p><p>🎶 <strong fr-original-style="" style="font-weight: 700\;">**Music:**</strong> Get into the groove with vibrant music setting the tone for the evening</p><p>🎲 <strong fr-original-style="" style="font-weight: 700\;">**Games &amp\; Giveaways:**&nbsp\;</strong>Win exciting prizes and enjoy fun-filled games</p><p>🗓️ <strong fr-original-style="" style="font-weight: 700\;">**Date &amp\; Time:**&nbsp\;</strong>May 5\, 2026\, from 3:00 PM to 5:00 PM.</p><p>This is your chance to network with our esteemed Preferred Business Partners\, industry experts\, and fellow Realtors&reg\; in a festive and casual atmosphere.</p><p>Don&#39\;t miss out on this opportunity to connect and celebrate Cinco De Mayo with us!</p><p style="text-align: center\;"><strong fr-original-style="" style="font-weight: 700\;">‼️Preferred Business Partners</strong>\, click on <a fr-original-style="" href="https://members.lakelandrealtors.org/ap/Events/Register/3BF7DjxfVHQCg" rel="noopener noreferrer" style="user-select: auto\;" target="_blank"><strong fr-original-style="" style="font-weight: 700\;">Exhibitor Registration</strong></a><br>to register as a sponsor/exhibitor for this event<strong fr-original-style="" style="font-weight: 700\;">‼️</strong></p></body></html>
LOCATION:619 E. Orange Street Lakeland FL 33801
UID:e.2601.1325267
SEQUENCE:3
DTSTAMP:20260421T082600Z
URL:https://lakelandassociationofrealtors.growthzoneapp.com/calendar/Details/cinco-de-mayo-after-hours-networking-fiesta-1555040?sourceTypeId=Hub
END:VEVENT
END:VCALENDAR
