BEGIN:VCALENDAR
VERSION:2.0
PRODID:-//ChamberMaster//Event Calendar 2.0//EN
METHOD:PUBLISH
X-PUBLISHED-TTL:P1H
REFRESH-INTERVAL:P1H
CALSCALE:GREGORIAN
BEGIN:VTIMEZONE
TZID:America/New_York
BEGIN:DAYLIGHT
RRULE:FREQ=YEARLY;BYMONTH=3;BYDAY=2SU
DTSTART:20070101T000000
TZOFFSETFROM:-0500
TZOFFSETTO:-0400
TZNAME:Eastern Daylight Time
END:DAYLIGHT
BEGIN:STANDARD
RRULE:FREQ=YEARLY;BYMONTH=11;BYDAY=1SU
DTSTART:20070101T000000
TZOFFSETFROM:-0400
TZOFFSETTO:-0500
TZNAME:Eastern Standard Time
END:STANDARD
END:VTIMEZONE
BEGIN:VEVENT
DTSTART;TZID=America/New_York:20260605T180000
DTEND;TZID=America/New_York:20260605T220000
X-MICROSOFT-CDO-ALLDAYEVENT:FALSE
SUMMARY:3rd Annual Realtor Feud
DESCRIPTION:Get ready for our 3rd Annual Realtor Feud   a high-energy\, laugh-out-loud game night where real estate pros go head-to-head in a fast-paced survey showdown!\nOur MC for the night is Kyle Kilburn The Market Realty CompanyWe'll have 8 teams of 5 players competing in a bracket-style tournament inspired by the classic game show format. Teams will battle it out by guessing the most popular survey answers to hilarious\, real estate themed questions. From listing disasters to buyer quirks\, you never know what answers will hit the board!Each round brings friendly competition\, team strategy\, and plenty of crowd interaction. The top teams will advance until one champion team is crowned our Realtor Feud Grand Winners 🏆✨ What to Expect:8 teams / 5 players per teamReal estate and themed survey questionsFast-paced head-to-head roundsAudience fun and cheeringPrizes and bragging rightsDinner of BBQ 🍴 and 2 drink tickets 🍺Whether you're playing or cheering from the crowd\, Realtor Feud is guaranteed to bring laughs 🤣😂\, teamwork👏\, and just the right amount of competitive🏆spirit.Hosted by the Lakeland REALTORS  Events Committee
X-ALT-DESC;FMTTYPE=text/html:<!DOCTYPE html><html><head><title></title></head><body aria-disabled="false"><p data-end="261" data-start="116" style='box-sizing: border-box\; border: 0px solid rgba(13\, 13\, 13\, 0.05)\; margin: 0.5rem 0px\; padding: 0px\; margin-block: 4px\; color: rgb(13\, 13\, 13)\; font-family: ui-sans-serif\, -apple-system\, "system-ui"\, "Segoe UI"\, Helvetica\, "Apple Color Emoji"\, Arial\, "sans-serif"\, "Segoe UI Emoji"\, "Segoe UI Symbol"\; font-size: 16px\; font-style: normal\; font-variant-ligatures: normal\; font-variant-caps: normal\; font-weight: 400\; letter-spacing: normal\; orphans: 2\; text-align: start\; text-indent: 0px\; text-transform: none\; widows: 2\; word-spacing: 0px\; -webkit-text-stroke-width: 0px\; white-space: normal\; background-color: rgb(255\, 255\, 255)\; text-decoration-thickness: initial\; text-decoration-style: initial\; text-decoration-color: initial\;'><span style="font-family: Tahoma\, Geneva\, sans-serif\; font-size: 18px\;">Get ready for our <strong fr-original-style="" style="font-weight: 700\;">3rd Annual&nbsp\;</strong><strong data-end="146" data-start="130" fr-original-style="box-sizing: border-box\; border: 0px solid rgba(13\, 13\, 13\, 0.05)\; margin: 0px\; padding: 0px\; font-weight: 600\; color: rgb(13\, 13\, 13)\; --tw-font-weight: 600\;" style="box-sizing: border-box\; border: 0px solid rgba(13\, 13\, 13\, 0.05)\; margin: 0px\; padding: 0px\; font-weight: 600\; color: rgb(13\, 13\, 13)\; --tw-font-weight: 600\;">Realtor Feud</strong> &mdash\; a high-energy\, laugh-out-loud game night where real estate pros go head-to-head in a fast-paced survey showdown!</span></p><p data-end="261" data-start="116" style='box-sizing: border-box\; border: 0px solid rgba(13\, 13\, 13\, 0.05)\; margin: 0.5rem 0px\; padding: 0px\; margin-block: 4px\; color: rgb(13\, 13\, 13)\; font-family: ui-sans-serif\, -apple-system\, "system-ui"\, "Segoe UI"\, Helvetica\, "Apple Color Emoji"\, Arial\, "sans-serif"\, "Segoe UI Emoji"\, "Segoe UI Symbol"\; font-size: 16px\; font-style: normal\; font-variant-ligatures: normal\; font-variant-caps: normal\; font-weight: 400\; letter-spacing: normal\; orphans: 2\; text-align: start\; text-indent: 0px\; text-transform: none\; widows: 2\; word-spacing: 0px\; -webkit-text-stroke-width: 0px\; white-space: normal\; background-color: rgb(255\, 255\, 255)\; text-decoration-thickness: initial\; text-decoration-style: initial\; text-decoration-color: initial\;'><br></p><p data-end="261" data-start="116" style='box-sizing: border-box\; border: 0px solid rgba(13\, 13\, 13\, 0.05)\; margin: 0.5rem 0px\; padding: 0px\; margin-block: 4px\; color: rgb(13\, 13\, 13)\; font-family: ui-sans-serif\, -apple-system\, "system-ui"\, "Segoe UI"\, Helvetica\, "Apple Color Emoji"\, Arial\, "sans-serif"\, "Segoe UI Emoji"\, "Segoe UI Symbol"\; font-size: 16px\; font-style: normal\; font-variant-ligatures: normal\; font-variant-caps: normal\; font-weight: 400\; letter-spacing: normal\; orphans: 2\; text-align: start\; text-indent: 0px\; text-transform: none\; widows: 2\; word-spacing: 0px\; -webkit-text-stroke-width: 0px\; white-space: normal\; background-color: rgb(255\, 255\, 255)\; text-decoration-thickness: initial\; text-decoration-style: initial\; text-decoration-color: initial\;'><span style="font-family: Tahoma\, Geneva\, sans-serif\; font-size: 18px\;">Our MC for the night is Kyle Kilburn The Market Realty Company</span></p><p data-end="581" data-start="263" style='box-sizing: border-box\; border: 0px solid rgba(13\, 13\, 13\, 0.05)\; margin: 0.5rem 0px\; padding: 0px\; margin-block: 16px\; color: rgb(13\, 13\, 13)\; font-family: ui-sans-serif\, -apple-system\, "system-ui"\, "Segoe UI"\, Helvetica\, "Apple Color Emoji"\, Arial\, "sans-serif"\, "Segoe UI Emoji"\, "Segoe UI Symbol"\; font-size: 16px\; font-style: normal\; font-variant-ligatures: normal\; font-variant-caps: normal\; font-weight: 400\; letter-spacing: normal\; orphans: 2\; text-align: start\; text-indent: 0px\; text-transform: none\; widows: 2\; word-spacing: 0px\; -webkit-text-stroke-width: 0px\; white-space: normal\; background-color: rgb(255\, 255\, 255)\; text-decoration-thickness: initial\; text-decoration-style: initial\; text-decoration-color: initial\;'><span style="font-size: 18px\;"><span style="font-family: Tahoma\,Geneva\,sans-serif\;">We&rsquo\;ll have <strong data-end="298" data-start="274" fr-original-style="box-sizing: border-box\; border: 0px solid rgba(13\, 13\, 13\, 0.05)\; margin: 0px\; padding: 0px\; font-weight: 600\; color: rgb(13\, 13\, 13)\; --tw-font-weight: 600\;" style="box-sizing: border-box\; border: 0px solid rgba(13\, 13\, 13\, 0.05)\; margin: 0px\; padding: 0px\; font-weight: 600\; color: rgb(13\, 13\, 13)\; --tw-font-weight: 600\;">8 teams of 5 players</strong> competing in a bracket-style tournament inspired by the classic game show format. Teams will battle it out by guessing the most popular survey answers to hilarious\, real estate&ndash\;themed questions. From listing disasters to buyer quirks\, you never know what answers will hit the board!</span></span></p><p data-end="770" data-start="583" style='box-sizing: border-box\; border: 0px solid rgba(13\, 13\, 13\, 0.05)\; margin: 0.5rem 0px\; padding: 0px\; margin-block: 16px\; color: rgb(13\, 13\, 13)\; font-family: ui-sans-serif\, -apple-system\, "system-ui"\, "Segoe UI"\, Helvetica\, "Apple Color Emoji"\, Arial\, "sans-serif"\, "Segoe UI Emoji"\, "Segoe UI Symbol"\; font-size: 16px\; font-style: normal\; font-variant-ligatures: normal\; font-variant-caps: normal\; font-weight: 400\; letter-spacing: normal\; orphans: 2\; text-align: start\; text-indent: 0px\; text-transform: none\; widows: 2\; word-spacing: 0px\; -webkit-text-stroke-width: 0px\; white-space: normal\; background-color: rgb(255\, 255\, 255)\; text-decoration-thickness: initial\; text-decoration-style: initial\; text-decoration-color: initial\;'><span style="font-size: 18px\;"><span style="font-family: Tahoma\,Geneva\,sans-serif\;">Each round brings friendly competition\, team strategy\, and plenty of crowd interaction. The top teams will advance until one champion team is crowned our <strong data-end="767" data-start="737" fr-original-style="box-sizing: border-box\; border: 0px solid rgba(13\, 13\, 13\, 0.05)\; margin: 0px\; padding: 0px\; font-weight: 600\; color: rgb(13\, 13\, 13)\; --tw-font-weight: 600\;" style="box-sizing: border-box\; border: 0px solid rgba(13\, 13\, 13\, 0.05)\; margin: 0px\; padding: 0px\; font-weight: 600\; color: rgb(13\, 13\, 13)\; --tw-font-weight: 600\;">Realtor Feud Grand Winners</strong> 🏆</span></span></p><p data-end="789" data-start="772" style='box-sizing: border-box\; border: 0px solid rgba(13\, 13\, 13\, 0.05)\; margin: 0.5rem 0px\; padding: 0px\; margin-block: 16px\; color: rgb(13\, 13\, 13)\; font-family: ui-sans-serif\, -apple-system\, "system-ui"\, "Segoe UI"\, Helvetica\, "Apple Color Emoji"\, Arial\, "sans-serif"\, "Segoe UI Emoji"\, "Segoe UI Symbol"\; font-size: 16px\; font-style: normal\; font-variant-ligatures: normal\; font-variant-caps: normal\; font-weight: 400\; letter-spacing: normal\; orphans: 2\; text-align: start\; text-indent: 0px\; text-transform: none\; widows: 2\; word-spacing: 0px\; -webkit-text-stroke-width: 0px\; white-space: normal\; background-color: rgb(255\, 255\, 255)\; text-decoration-thickness: initial\; text-decoration-style: initial\; text-decoration-color: initial\;'><span style="font-size: 18px\;"><span style="font-family: Tahoma\,Geneva\,sans-serif\;">✨ What to Expect:</span></span></p><ul data-end="958" data-start="790" fr-original-style='box-sizing: border-box\; border: 0px solid rgba(13\, 13\, 13\, 0.05)\; margin: 0px\; padding: 0px 0px 0px 1.625em\; list-style: disc\; color: rgb(13\, 13\, 13)\; font-family: ui-sans-serif\, -apple-system\, "system-ui"\, "Segoe UI"\, Helvetica\, "Apple Color Emoji"\, Arial\, "sans-serif"\, "Segoe UI Emoji"\, "Segoe UI Symbol"\; font-size: 16px\; font-style: normal\; font-variant-ligatures: normal\; font-variant-caps: normal\; font-weight: 400\; letter-spacing: normal\; orphans: 2\; text-align: start\; text-indent: 0px\; text-transform: none\; widows: 2\; word-spacing: 0px\; -webkit-text-stroke-width: 0px\; white-space: normal\; background-color: rgb(255\, 255\, 255)\; text-decoration-thickness: initial\; text-decoration-style: initial\; text-decoration-color: initial\;' style='box-sizing: border-box\; border: 0px solid rgba(13\, 13\, 13\, 0.05)\; margin: 0px\; padding: 0px 0px 0px 1.625em\; list-style: disc\; color: rgb(13\, 13\, 13)\; font-family: ui-sans-serif\, -apple-system\, "system-ui"\, "Segoe UI"\, Helvetica\, "Apple Color Emoji"\, Arial\, "sans-serif"\, "Segoe UI Emoji"\, "Segoe UI Symbol"\; font-size: 16px\; font-style: normal\; font-variant-ligatures: normal\; font-variant-caps: normal\; font-weight: 400\; letter-spacing: normal\; orphans: 2\; text-align: start\; text-indent: 0px\; text-transform: none\; widows: 2\; word-spacing: 0px\; -webkit-text-stroke-width: 0px\; white-space: normal\; background-color: rgb(255\, 255\, 255)\; text-decoration-thickness: initial\; text-decoration-style: initial\; text-decoration-color: initial\;'><li data-end="822" data-start="790" style="box-sizing: border-box\; border: 0px solid rgba(13\, 13\, 13\, 0.05)\; margin: 0.5em 0px\; padding: 0px 0px 0px 0.375em\; margin-block: 0px\; font-family: Tahoma\, Geneva\, sans-serif\; font-size: 18px\;"><p data-end="822" data-start="792" style="box-sizing: border-box\; border: 0px solid rgba(13\, 13\, 13\, 0.05)\; margin: 0px\; padding: 0px\; margin-block: 4px\;">8 teams / 5 players per team</p></li><li data-end="862" data-start="823" style="box-sizing: border-box\; border: 0px solid rgba(13\, 13\, 13\, 0.05)\; margin: 0.5em 0px\; padding: 0px 0px 0px 0.375em\; margin-block: 0px\; font-family: Tahoma\, Geneva\, sans-serif\; font-size: 18px\;"><p data-end="862" data-start="825" style="box-sizing: border-box\; border: 0px solid rgba(13\, 13\, 13\, 0.05)\; margin: 0px\; padding: 0px\; margin-block: 4px\;">Real estate and themed survey questions</p></li><li data-end="897" data-start="863" style="box-sizing: border-box\; border: 0px solid rgba(13\, 13\, 13\, 0.05)\; margin: 0.5em 0px\; padding: 0px 0px 0px 0.375em\; margin-block: 0px\; font-family: Tahoma\, Geneva\, sans-serif\; font-size: 18px\;"><p data-end="897" data-start="865" style="box-sizing: border-box\; border: 0px solid rgba(13\, 13\, 13\, 0.05)\; margin: 0px\; padding: 0px\; margin-block: 4px\;">Fast-paced head-to-head rounds</p></li><li data-end="927" data-start="898" style="box-sizing: border-box\; border: 0px solid rgba(13\, 13\, 13\, 0.05)\; margin: 0.5em 0px\; padding: 0px 0px 0px 0.375em\; margin-block: 0px\; font-family: Tahoma\, Geneva\, sans-serif\; font-size: 18px\;"><p data-end="927" data-start="900" style="box-sizing: border-box\; border: 0px solid rgba(13\, 13\, 13\, 0.05)\; margin: 0px\; padding: 0px\; margin-block: 4px\;">Audience fun and cheering</p></li><li data-end="958" data-start="928" style="box-sizing: border-box\; border: 0px solid rgba(13\, 13\, 13\, 0.05)\; margin: 0.5em 0px\; padding: 0px 0px 0px 0.375em\; margin-block: 0px\; font-family: Tahoma\, Geneva\, sans-serif\; font-size: 18px\;"><p data-end="958" data-start="930" style="box-sizing: border-box\; border: 0px solid rgba(13\, 13\, 13\, 0.05)\; margin: 0px\; padding: 0px\; margin-block: 4px\;">Prizes and bragging rights</p></li><li data-end="958" data-start="928" style="box-sizing: border-box\; border: 0px solid rgba(13\, 13\, 13\, 0.05)\; margin: 0.5em 0px\; padding: 0px 0px 0px 0.375em\; margin-block: 0px\; font-family: Tahoma\, Geneva\, sans-serif\; font-size: 18px\;"><p data-end="958" data-start="930" style="box-sizing: border-box\; border: 0px solid rgba(13\, 13\, 13\, 0.05)\; margin: 0px\; padding: 0px\; margin-block: 4px\;">Dinner of BBQ 🍴 and 2 drink tickets 🍺</p></li></ul><p data-end="1113" data-start="960" style='box-sizing: border-box\; border: 0px solid rgba(13\, 13\, 13\, 0.05)\; margin: 0.5rem 0px\; padding: 0px\; margin-block: 4px\; color: rgb(13\, 13\, 13)\; font-family: ui-sans-serif\, -apple-system\, "system-ui"\, "Segoe UI"\, Helvetica\, "Apple Color Emoji"\, Arial\, "sans-serif"\, "Segoe UI Emoji"\, "Segoe UI Symbol"\; font-size: 16px\; font-style: normal\; font-variant-ligatures: normal\; font-variant-caps: normal\; font-weight: 400\; letter-spacing: normal\; orphans: 2\; text-align: start\; text-indent: 0px\; text-transform: none\; widows: 2\; word-spacing: 0px\; -webkit-text-stroke-width: 0px\; white-space: normal\; background-color: rgb(255\, 255\, 255)\; text-decoration-thickness: initial\; text-decoration-style: initial\; text-decoration-color: initial\;'><span style="font-size: 18px\;"><span style="font-family: Tahoma\,Geneva\,sans-serif\;">Whether you&#39\;re playing or cheering from the crowd\, Realtor Feud is guaranteed to bring laughs 🤣😂\, teamwork👏\, and just the right amount of competitive<span style="font-family: Tahoma\,Geneva\,sans-serif\;">🏆</span>spirit.</span></span></p><p><span style="font-family: Tahoma\, Geneva\, sans-serif\; font-size: 18px\;">Hosted by the Lakeland REALTORS&reg\; Events Committee</span></p></body></html>
LOCATION:4529 Harden Blvd Lakeland 33813
UID:e.2601.1403385
SEQUENCE:3
DTSTAMP:20260421T082035Z
URL:https://lakelandassociationofrealtors.growthzoneapp.com/calendar/Details/3rd-annual-realtor-feud-1658536?sourceTypeId=Hub
END:VEVENT
END:VCALENDAR
