BEGIN:VCALENDAR
VERSION:2.0
PRODID:-//ChamberMaster//Event Calendar 2.0//EN
METHOD:PUBLISH
X-PUBLISHED-TTL:P1H
REFRESH-INTERVAL:P1H
CALSCALE:GREGORIAN
BEGIN:VTIMEZONE
TZID:America/New_York
BEGIN:DAYLIGHT
RRULE:FREQ=YEARLY;BYMONTH=3;BYDAY=2SU
DTSTART:20070101T000000
TZOFFSETFROM:-0500
TZOFFSETTO:-0400
TZNAME:Eastern Daylight Time
END:DAYLIGHT
BEGIN:STANDARD
RRULE:FREQ=YEARLY;BYMONTH=11;BYDAY=1SU
DTSTART:20070101T000000
TZOFFSETFROM:-0400
TZOFFSETTO:-0500
TZNAME:Eastern Standard Time
END:STANDARD
END:VTIMEZONE
BEGIN:VEVENT
DTSTART;TZID=America/New_York:20260415T120000
DTEND;TZID=America/New_York:20260415T140000
X-MICROSOFT-CDO-ALLDAYEVENT:FALSE
SUMMARY:👶Millennials🆚Legends🧓Trivia Lunch & Learn
DESCRIPTION:Join us for a FREE and interactive\, entertaining\, and slightly competitive\nLunch & Learn as Millennials (born in/after 1981) take 🆚 on Legends (born in/before 1980)\nin a friendly\, trivia-style competition blending real estate knowledge\, local insights\, and generational fun.Registration Options:Compete in Trivia: Register as either a Millennial or a Legend to participate in the competition.\nTeams of five will be created the day of the event\, with the goal of two Millennial teams and two Legend teams competing. You must be part of a team to compete.Attend as a Spectator: Join us to learn\, network\, and enjoy the event without competing.🏆1st place team🏆will receive a gift card for each team member🏆🤔❓The competition will feature questions & discussions across several categories❓🤔⌛Then & Now: Real Estate Through the Decades: Comparing how buying\, renting\,\nand managing homes has evolved over time.🏘️Real Estate Reality Check: Myths\, facts\, and real-world housing scenarios.🎵 Playlist Generations: Music that defined each era.👶🧒Adulting vs. Adulted🧑🧓: Lifestyle and culture differences through the years.🕰️Polk County Past & Present: How local communities and development have changed over time.All attendees will receive one 🎫 raffle ticket for additional 🧧gift card drawings 🎁Enjoy lunch\, connect with colleagues\, and experience a lively generational showdown you won't want to miss!
X-ALT-DESC;FMTTYPE=text/html:<!DOCTYPE html><html><head><title></title></head><body aria-disabled="false" spellcheck="false"><p data-end="402" data-start="162" style="text-align: center\;">Join us for a <strong fr-original-style="" style="font-weight: 700\;">FREE&nbsp\;</strong>and interactive\, entertaining\, and <em>slightly</em> competitive<br><strong fr-original-style="" style="font-weight: 700\;">Lunch &amp\; Learn</strong> as <strong data-end="255" data-start="223" fr-original-style="" style="font-weight: 700\;">Millennials (born in/after 1981)&nbsp\;</strong>take 🆚 on <strong data-end="292" data-start="264" fr-original-style="" style="font-weight: 700\;">Legends (born in/before 1980)</strong><br>in a friendly\, <strong fr-original-style="" style="font-weight: 700\;">trivia-style</strong> competition blending real estate knowledge\, local insights\, and generational fun.</p><p data-end="398" data-start="371"><strong data-end="396" data-start="371" fr-original-style="" style="font-weight: 700\;">Registration Options:</strong></p><ul fr-original-style="" style="list-style-position: inside\;"><li data-end="623" data-start="401"><strong data-end="413" data-start="401" fr-original-style="" style="font-weight: 700\;">Compete in Trivia:</strong> Register as either a Millennial or a Legend to participate in the competition.<br>Teams of five will be created the day of the event\, with the goal of two Millennial teams and two Legend teams competing. You must be part of a team to compete.</li><li data-end="718" data-start="626"><strong data-end="652" data-start="626" fr-original-style="" style="font-weight: 700\;">Attend as a Spectator:</strong> Join us to learn\, network\, and enjoy the event without competing.</li></ul><hr fr-original-style="" style="clear: both\; user-select: none\; break-after: page\;"><p data-end="1504" data-start="1354" style="text-align: center\;"><span style="font-size: 18px\;">🏆</span><span style="background-color: rgb(41\, 105\, 176)\; font-size: 18px\;"><strong data-end="1379" data-start="1361" fr-original-style="" style="font-weight: 700\;"><span style="color: rgb(250\, 197\, 28)\;">1st place team</span></strong></span><span style="font-size: 18px\;">🏆will receive a gift card for each team member🏆</span></p><p data-end="898" data-start="804" style="text-align: center\;"><strong fr-original-style="" style="font-weight: 700\;"><u>🤔❓</u></strong><strong fr-original-style="" style="font-weight: 700\;"><u>The competition will feature questions &amp\; discussions across several categories</u></strong><strong fr-original-style="" style="font-weight: 700\;"><u>❓🤔</u></strong></p><p data-end="1025" data-start="901" style="text-align: center\;"><strong data-end="948" data-start="901" fr-original-style="" style="font-weight: 700\;">⌛Then &amp\; Now: Real Estate Through the Decades:&nbsp\;</strong>Comparing how buying\, renting\,<br>and managing homes has evolved over time.</p><p data-end="1109" data-start="1028" style="text-align: center\;"><strong data-end="1057" data-start="1028" fr-original-style="" style="font-weight: 700\;">🏘️Real Estate Reality Check:&nbsp\;</strong>Myths\, facts\, and real-world housing scenarios.</p><p data-end="1169" data-start="1112" style="text-align: center\;"><strong data-end="1136" data-start="1112" fr-original-style="" style="font-weight: 700\;">🎵 Playlist Generations:&nbsp\;</strong>Music that defined each era.</p><p data-end="1253" data-start="1172" style="text-align: center\;"><strong data-end="1196" data-start="1172" fr-original-style="" style="font-weight: 700\;">👶🧒Adulting vs. Adulted🧑🧓:&nbsp\;</strong>Lifestyle and culture differences through the years.</p><p data-end="1352" data-start="1256" style="text-align: center\;"><strong data-end="1286" data-start="1256" fr-original-style="" style="font-weight: 700\;">🕰️Polk County Past &amp\; Present:&nbsp\;</strong>How local communities and development have changed over time.</p><hr fr-original-style="" style="clear: both\; user-select: none\; break-after: page\;"><p data-end="1504" data-start="1354" style="text-align: center\;">All attendees will receive one 🎫 raffle ticket for additional 🧧gift card drawings 🎁</p><p data-end="1613" data-start="1506" style="text-align: center\;"><span style="font-size: 18px\;"><strong fr-original-style="" style="font-weight: 700\;">Enjoy lunch\, connect with colleagues\, and experience a lively generational showdown you won&rsquo\;t want to miss!</strong></span></p></body></html>
LOCATION:619 E. Orange Street Lakeland FL 33801
UID:e.2601.1397109
SEQUENCE:3
DTSTAMP:20260421T081914Z
URL:https://lakelandassociationofrealtors.growthzoneapp.com/calendar/Details/millennials-legends-trivia-lunch-learn-1650845?sourceTypeId=Hub
END:VEVENT
END:VCALENDAR
